BEGIN:VCALENDAR
VERSION:2.0
PRODID:-//Canadian Centre For Accreditation - ECPv6.15.20//NONSGML v1.0//EN
CALSCALE:GREGORIAN
METHOD:PUBLISH
X-ORIGINAL-URL:https://canadiancentreforaccreditation.ca
X-WR-CALDESC:Events for Canadian Centre For Accreditation
REFRESH-INTERVAL;VALUE=DURATION:PT1H
X-Robots-Tag:noindex
X-PUBLISHED-TTL:PT1H
BEGIN:VTIMEZONE
TZID:America/Toronto
BEGIN:DAYLIGHT
TZOFFSETFROM:-0500
TZOFFSETTO:-0400
TZNAME:EDT
DTSTART:20240310T070000
END:DAYLIGHT
BEGIN:STANDARD
TZOFFSETFROM:-0400
TZOFFSETTO:-0500
TZNAME:EST
DTSTART:20241103T060000
END:STANDARD
BEGIN:DAYLIGHT
TZOFFSETFROM:-0500
TZOFFSETTO:-0400
TZNAME:EDT
DTSTART:20250309T070000
END:DAYLIGHT
BEGIN:STANDARD
TZOFFSETFROM:-0400
TZOFFSETTO:-0500
TZNAME:EST
DTSTART:20251102T060000
END:STANDARD
BEGIN:DAYLIGHT
TZOFFSETFROM:-0500
TZOFFSETTO:-0400
TZNAME:EDT
DTSTART:20260308T070000
END:DAYLIGHT
BEGIN:STANDARD
TZOFFSETFROM:-0400
TZOFFSETTO:-0500
TZNAME:EST
DTSTART:20261101T060000
END:STANDARD
END:VTIMEZONE
BEGIN:VEVENT
DTSTART;TZID=America/Toronto:20251021T090000
DTEND;TZID=America/Toronto:20251031T123000
DTSTAMP:20260419T155023
CREATED:20241010T204304Z
LAST-MODIFIED:20250514T203055Z
UID:10000071-1761037200-1761913800@canadiancentreforaccreditation.ca
SUMMARY:Lean Green Belt in Quality Improvement
DESCRIPTION:Having taken White and Yellow Belt training\, you will develop an in-depth understanding of those essential Lean tools and practices that can be applied in community health and social services settings to increase efficiency and quality of service; improve access to services; increase capacity; improve satisfaction among staff and community and create an ongoing culture of continuous quality improvement. The Green Belt program will develop the capability and skills to lead improvement initiatives within your organization. \nThe program enables immediate application and benefit through a requirement to complete a workplace improvement project. This ‘apply-it now’ approach can generate tangible benefits for your organization. \nAs well as live instructor-led training\, participants receive access to a subject matter expert mentor throughout the program. Our mentors have significant experience supporting community health and social services organizations and will provide guidance on all aspects of the program – subject matter queries\, project scoping and execution. \nThis program will be delivered over six (6) live online instructor-led sessions as follows: \n\nWeek 1: October 21st\, 22nd and 23rd 2025; 9:00AM to 12:30PM Eastern (3 x 3.5-hour sessions)\nWeek 2: October 28th\, 30th and 31st 2025; 9:00AM to 12:30PM Eastern (3 x 3.5-hour sessions)\n\nPrerequisite: Lean Yellow Belt Certification \nKey Topics: \n\nWhy Lean in community health and social services\nProject identification and selection\nLean Green Belt project essentials\nEvaluation of current state/value stream mapping analysis\nStakeholder engagement tools\nLean tools to improve flow\nLean tools to reduce variation\nTransforming to future state\nManaging change\nLean leadership\n\nFees: \n\nParticipating Organizations\, Reviewers and Partners: $1750 per person+ HST+ Eventbrite fees\nGeneral participants:  $2000 per person+ HST+ Eventbrite fees\n\nAvailable Discounts: \n\nIndividuals who register 1 at full price\, get the 2nd at 25% off\nIndividuals who register for all 3 Lean White\, Yellow and Green trainings are eligible for an overall 15%\nPlease note: discounts cannot be combined.\n\nIndividuals can register for individual workshops online at HERE. \nTo take advantage of one of the available discounts\, contact us at coordinator@canadiancentreforaccreditation.ca \nRefunds & Cancellation Policy  \nRefunds \n\nFull refunds (minus Eventbrite fees) are available for cancellations made at least 5 business days before the session start date.\nNo refunds will be issued for cancellations made less than 5 days in advance.\nIf a cancellation affects the eligibility for a group or bulk discount\, the discount may be deducted from the refund.\n\nReplacements: \n\nReplacements are allowed if requested at least 2 business days before the session’s start date.\nThe replacement participant must meet any session prerequisites or requirements.\n\nDeferrals: Deferrals to future sessions will not be permitted.
URL:https://canadiancentreforaccreditation.ca/event/lean-green-belt-in-quality-improvement-2/
LOCATION:Virtual
CATEGORIES:Quality Improvement
END:VEVENT
END:VCALENDAR