BEGIN:VCALENDAR
VERSION:2.0
PRODID:-//Canadian Centre For Accreditation - ECPv6.15.20//NONSGML v1.0//EN
CALSCALE:GREGORIAN
METHOD:PUBLISH
X-ORIGINAL-URL:https://canadiancentreforaccreditation.ca
X-WR-CALDESC:Events for Canadian Centre For Accreditation
REFRESH-INTERVAL;VALUE=DURATION:PT1H
X-Robots-Tag:noindex
X-PUBLISHED-TTL:PT1H
BEGIN:VTIMEZONE
TZID:America/Toronto
BEGIN:DAYLIGHT
TZOFFSETFROM:-0500
TZOFFSETTO:-0400
TZNAME:EDT
DTSTART:20210314T070000
END:DAYLIGHT
BEGIN:STANDARD
TZOFFSETFROM:-0400
TZOFFSETTO:-0500
TZNAME:EST
DTSTART:20211107T060000
END:STANDARD
BEGIN:DAYLIGHT
TZOFFSETFROM:-0500
TZOFFSETTO:-0400
TZNAME:EDT
DTSTART:20220313T070000
END:DAYLIGHT
BEGIN:STANDARD
TZOFFSETFROM:-0400
TZOFFSETTO:-0500
TZNAME:EST
DTSTART:20221106T060000
END:STANDARD
BEGIN:DAYLIGHT
TZOFFSETFROM:-0500
TZOFFSETTO:-0400
TZNAME:EDT
DTSTART:20230312T070000
END:DAYLIGHT
BEGIN:STANDARD
TZOFFSETFROM:-0400
TZOFFSETTO:-0500
TZNAME:EST
DTSTART:20231105T060000
END:STANDARD
END:VTIMEZONE
BEGIN:VEVENT
DTSTART;TZID=America/Toronto:20220721T130000
DTEND;TZID=America/Toronto:20220721T150000
DTSTAMP:20260422T180852
CREATED:20220627T185925Z
LAST-MODIFIED:20220627T190106Z
UID:10000044-1658408400-1658415600@canadiancentreforaccreditation.ca
SUMMARY:Measurement Based Care Virtual Panel - Yale MBCC and Greenspace Health
DESCRIPTION:Measurement-Based Care Virtual Panel – Yale MBCC and Greenspace Health \nWe had great CCA member representation at the last Measurement-Based Care (MBC) panel\, hosted in partnership between our friends at the Yale MBCC and Greenspace Health. For those who missed it\, or if you’re looking to continue to learn about MBC\, I’m excited to be able to invite you to the second of their three-panel series where you can learn about its clinical impact\, influence on accreditation processes\, and in validating and sharing the efficacy of clinical services. \nThe virtual panel is taking place on July 21st at 1 PM. This panel will cover some of the basics of MBC\,  and will dive into Yale’s “Collect\, Share\, Act” model of MBC\, with a focus on strategies around how to interpret and leverage client-reported data in practice. Accreditation and MBC and articulate why the data can inform and validate the work. Click here for more details\, and to register. \nI hope you can make it\, and please feel free to share the event with anyone on your team. \nPS. Watch this short video to see highlights from the first event.
URL:https://canadiancentreforaccreditation.ca/event/measurement-based-care-virtual-panel-yale-mbcc-and-greenspace-health/
CATEGORIES:Quality Improvement
END:VEVENT
END:VCALENDAR