BEGIN:VCALENDAR
VERSION:2.0
PRODID:-//Canadian Centre For Accreditation - ECPv6.15.20//NONSGML v1.0//EN
CALSCALE:GREGORIAN
METHOD:PUBLISH
X-ORIGINAL-URL:https://canadiancentreforaccreditation.ca
X-WR-CALDESC:Events for Canadian Centre For Accreditation
REFRESH-INTERVAL;VALUE=DURATION:PT1H
X-Robots-Tag:noindex
X-PUBLISHED-TTL:PT1H
BEGIN:VTIMEZONE
TZID:America/Toronto
BEGIN:DAYLIGHT
TZOFFSETFROM:-0500
TZOFFSETTO:-0400
TZNAME:EDT
DTSTART:20210314T070000
END:DAYLIGHT
BEGIN:STANDARD
TZOFFSETFROM:-0400
TZOFFSETTO:-0500
TZNAME:EST
DTSTART:20211107T060000
END:STANDARD
BEGIN:DAYLIGHT
TZOFFSETFROM:-0500
TZOFFSETTO:-0400
TZNAME:EDT
DTSTART:20220313T070000
END:DAYLIGHT
BEGIN:STANDARD
TZOFFSETFROM:-0400
TZOFFSETTO:-0500
TZNAME:EST
DTSTART:20221106T060000
END:STANDARD
BEGIN:DAYLIGHT
TZOFFSETFROM:-0500
TZOFFSETTO:-0400
TZNAME:EDT
DTSTART:20230312T070000
END:DAYLIGHT
BEGIN:STANDARD
TZOFFSETFROM:-0400
TZOFFSETTO:-0500
TZNAME:EST
DTSTART:20231105T060000
END:STANDARD
END:VTIMEZONE
BEGIN:VEVENT
DTSTART;TZID=America/Toronto:20221103T130000
DTEND;TZID=America/Toronto:20221103T150000
DTSTAMP:20260422T085957
CREATED:20221018T150038Z
LAST-MODIFIED:20221017T190822Z
UID:10000046-1667480400-1667487600@canadiancentreforaccreditation.ca
SUMMARY:Measurement-Based Care: Yale Collaborative's Final Panel\, Nov 3
DESCRIPTION:Measurement-Based Care: Yale Collaborative’s Final Panel\, Nov 3 \nThe team at Greenspace Health is hosting their third (and final) educational panel in partnership with the researchers and renowned psychologists at the Yale Measurement-Based Care Collaborative. \nWe’re excited to invite you to this live Q&A session to build on your MBC knowledge and learn from four of the leading experts driving its momentum. Over 650 clinical leaders and clinicians attended the first two sessions. You won’t want to miss this panel! \nRegister Here: ASK ME ANYTHING: A Measurement-Based Care Q&A With the Experts at Yale – November 3rd at 1 PM EST. \nThanks\, and I hope you can make it! \nSophie Bart\nExecutive Director\nCanadian Centre for Accreditation
URL:https://canadiancentreforaccreditation.ca/event/measurement-based-care-yale-collaboratives-final-panel-nov-3/
CATEGORIES:Quality Improvement
END:VEVENT
END:VCALENDAR