BEGIN:VCALENDAR
VERSION:2.0
PRODID:-//Canadian Centre For Accreditation - ECPv6.15.20//NONSGML v1.0//EN
CALSCALE:GREGORIAN
METHOD:PUBLISH
X-WR-CALNAME:Canadian Centre For Accreditation
X-ORIGINAL-URL:https://canadiancentreforaccreditation.ca
X-WR-CALDESC:Events for Canadian Centre For Accreditation
REFRESH-INTERVAL;VALUE=DURATION:PT1H
X-Robots-Tag:noindex
X-PUBLISHED-TTL:PT1H
BEGIN:VTIMEZONE
TZID:America/Toronto
BEGIN:DAYLIGHT
TZOFFSETFROM:-0500
TZOFFSETTO:-0400
TZNAME:EDT
DTSTART:20250309T070000
END:DAYLIGHT
BEGIN:STANDARD
TZOFFSETFROM:-0400
TZOFFSETTO:-0500
TZNAME:EST
DTSTART:20251102T060000
END:STANDARD
BEGIN:DAYLIGHT
TZOFFSETFROM:-0500
TZOFFSETTO:-0400
TZNAME:EDT
DTSTART:20260308T070000
END:DAYLIGHT
BEGIN:STANDARD
TZOFFSETFROM:-0400
TZOFFSETTO:-0500
TZNAME:EST
DTSTART:20261101T060000
END:STANDARD
BEGIN:DAYLIGHT
TZOFFSETFROM:-0500
TZOFFSETTO:-0400
TZNAME:EDT
DTSTART:20270314T070000
END:DAYLIGHT
BEGIN:STANDARD
TZOFFSETFROM:-0400
TZOFFSETTO:-0500
TZNAME:EST
DTSTART:20271107T060000
END:STANDARD
END:VTIMEZONE
BEGIN:VEVENT
DTSTART;TZID=America/Toronto:20260116T090000
DTEND;TZID=America/Toronto:20260116T123000
DTSTAMP:20260419T093220
CREATED:20250908T161647Z
LAST-MODIFIED:20251211T161920Z
UID:10000075-1768554000-1768566600@canadiancentreforaccreditation.ca
SUMMARY:New Reviewer Training (English) - Session full - Registration is now closed.
DESCRIPTION:Session full – Registration is now closed. \nThe credibility of any accreditation rests largely on the calibre of its Reviewers. CCA accreditation reviews are conducted by trained teams of volunteers\, trained virtually over 4 half-days: \n\nJanuary 16\, 2026\, 9:00am – 12:30pm\nJanuary 23\, 2026\, 9:00am – 12:30pm\nJanuary 30\, 2026\, 9:00am – 12:30pm\nFebruary 6\, 2026\, 9:00am – 12:30pm\n\nTo learn more about the volunteer Reviewer role\, and to register to become a new Reviewer\, visit: https://canadiancentreforaccreditation.ca/become-a-reviewer/how-to-become-a-reviewer/.
URL:https://canadiancentreforaccreditation.ca/event/new-reviewer-training/
LOCATION:Virtual
END:VEVENT
BEGIN:VEVENT
DTSTART;TZID=America/Toronto:20260120T130000
DTEND;TZID=America/Toronto:20260121T170000
DTSTAMP:20260419T093220
CREATED:20250929T145022Z
LAST-MODIFIED:20251122T141354Z
UID:10000078-1768914000-1769014800@canadiancentreforaccreditation.ca
SUMMARY:Quality Improvement Leadership
DESCRIPTION:Developed in partnership with the Leading Edge Group\, a global leader in quality improvement training\, the Canadian Centre for Accreditation is pleased to offer the Quality Improvement (QI) Leadership workshop. \nThe live online instructor-led workshop will be delivered over two (2) subsequent virtual training sessions: \n\nSession 1: Tuesday\, January 20\, 2026 from 1:00 – 4:30pm (EST)\nSession 2: Wednesday\, January 21\, 2026 from 1:00 – 4:30pm (EST)\n\nThis training program emphasizes building a QI culture by focusing on leadership skills\, process optimization and systemic improvements to deliver client-centered services efficiently. \nParticipants will develop a tailored framework and high-level strategy for sustainable success. Upon completion\, participants will be able to effectively sponsor\, manage and sustain QI deployment across short\, medium and long-term planning cycles. \nTraining Focus \nThis training focuses on the key areas: \n\nBenefits and principles of quality improvement\nImplementation techniques and the PDCA improvement cycle\nLeadership’s role in quality improvement\nMeasuring\, tracking and reporting on QI activity\nLeader standard work\n\nPricing\nWe offer flexible pricing to support early registration and recognize our valued clients: \nClient Pricing \n\nEarly Bird – register by November 30\, 2026: $399\nStandard Rate: $450\n\nGeneral Admission Pricing \n\nEarly Bird: $499\nStandard Rate: $550\n\nSecure your spot early to take advantage of reduced pricing. Space is limited. \nREGISTRATION: To register\, visit https://CCA-QI-Leadership-Jan2026.eventbrite.ca.
URL:https://canadiancentreforaccreditation.ca/event/quality-improvement-leadership/
LOCATION:Virtual
CATEGORIES:Quality Improvement
END:VEVENT
END:VCALENDAR